BEGIN:VCALENDAR
VERSION:2.0
PRODID:-//Momentum Peiss - ECPv6.15.20//NONSGML v1.0//EN
CALSCALE:GREGORIAN
METHOD:PUBLISH
X-WR-CALNAME:Momentum Peiss
X-ORIGINAL-URL:https://momentum-peiss.de
X-WR-CALDESC:Veranstaltungen für Momentum Peiss
REFRESH-INTERVAL;VALUE=DURATION:PT1H
X-Robots-Tag:noindex
X-PUBLISHED-TTL:PT1H
BEGIN:VTIMEZONE
TZID:UTC
BEGIN:STANDARD
TZOFFSETFROM:+0000
TZOFFSETTO:+0000
TZNAME:UTC
DTSTART:20240101T000000
END:STANDARD
END:VTIMEZONE
BEGIN:VEVENT
DTSTART;TZID=UTC:20251116T140000
DTEND;TZID=UTC:20251116T173000
DTSTAMP:20260421T165338
CREATED:20250706T155538Z
LAST-MODIFIED:20250706T155538Z
UID:15910-1763301600-1763314200@momentum-peiss.de
SUMMARY:Letzte Hilfe Kurs - Voraussichtlich
DESCRIPTION:[vc_row][vc_column][vc_column_text]Einen Erste Hilfe Kurs haben wir alle schon einmal im Leben gemacht – immer in der Hoffnung\, nicht in eine Unfallsituation zu geraten und handeln zu müssen.\nDem Thema Krankheit & Sterben werden wir zwangsläufig in unserem Leben begegnen. Ob alt oder jung\, ein Nachbar\, der plötzlich verstirbt\, ein Kollege\, der unheilbar krank ist oder ein guter Freund\, der Tod enger oder entfernter Familienmitglieder – wir alle sind sterblich. Umso wichtiger ist es\, in solchen Situationen gut vorbereitet zu sein\, um sich sicherer zu fühlen und weniger Angst zu haben.\nAngst beginnt im Kopf – Mut aber auch. Wissen macht Mut! \nKURSAUFBAU\nDer Kurs besteht aus vier Modulen zu jeweils 45 Minuten und wird an einem Nachmittag oder Abend durchgeführt. Die Moderation erfolgt durch erfahrene und zertifizierte Kursleitende aus der Hospiz- und Palliativarbeit. \nModul 1: Sterben als ein Teil des Lebens\nModul 2: Vorsorgen und entscheiden\nModul 3: Leiden lindern\nModul 4: Abschied nehmen\n„Die natürliche Art mit dem Thema Sterben umzugehen“ \nLETZTE HILFE\n• richtet sich an ALLE Menschen\, die sich über die Themen rund um das Sterben\, Tod und Palliativversorgung informieren wollen\n• schafft Wissen und Sicherheit für eine sorgende Gesellschaft\n• schafft Grundlagen und hilft mit\, die allgemeineambulante Palliativversorgung zu verbessern[/vc_column_text][vc_column_text]Beginn 14 Uhr \n1 Pause von 30 min \nEnde der Veranstaltung 17:30 Uhr \n5-15 Teilnehmer[/vc_column_text][vc_raw_html]JTNDYSUyMGNsYXNzJTNEJTIydmNfZ2VuZXJhbCUyMHZjX2J0bjMlMjB2Y19idG4zLXNpemUtbWQlMjB2Y19idG4zLXNoYXBlLXNxdWFyZSUyMHZjX2J0bjMtc3R5bGUtZmxhdCUyMHZjX2J0bjMtY29sb3ItZGFuZ2VyJTIyJTIwaHJlZiUzRCUyMm1haWx0byUzQWhhbGxvJTQwbW9tZW50dW0tcGVpc3MuZGUlMjIlM0VKZXR6dCUyMGFubWVsZGVuJTNDJTJGYSUzRQ==[/vc_raw_html][vc_empty_space height=“40px“][/vc_column][/vc_row][vc_row][vc_column width=“1/4″][vc_column_text]Kursleiterinnen[/vc_column_text][vc_empty_space height=“20px“][vc_single_image image=“15285″][vc_empty_space height=“10px“][vc_single_image image=“15445″][/vc_column][vc_column width=“3/4″][vc_column_text]Dr. Sylvia Doleschel und Christine Mayr[/vc_column_text][vc_empty_space height=“20px“][vc_column_text]Die Betreuung von schwer kranken und sterbenden Menschen gehört für beide Kursleiterinnen so selbstverständlich zum Leben\, wie die Fürsorge für alle Anderen Patienten\, die sich im Rahmen ihrer therapeutischen Tätigkeit in der Praxis Händs-On anvertrauen. Daher absolvieren sie die palliativ spirituelle Ausbildung im Hospiz in Weyarn. Davon inspiriert haben sie die Kursleiter Ausbildung für die Letzte Hilfe gemacht und wollen ihr Wissen sowie ihre Erfahrung mit Herz und Verstand weitergeben. [/vc_column_text]\n	\n		\n	[/vc_column][/vc_row]
URL:https://momentum-peiss.de/veranstaltungen/letzte-hilfe-kurs-voraussichtlich/
LOCATION:MOMENTUM\, Rosenheimer Landstr. 19 a\, Aying OT Peiß\, 85653\, Deutschland
ATTACH;FMTTYPE=application/pdf:https://momentum-peiss.de/wp-content/uploads/NEULetzte-Hilfe-Plakat-A3-2022.pdf
ORGANIZER;CN="Dr. Sylvia Doleschel":MAILTO:hallo@momentum-peiss.de
END:VEVENT
END:VCALENDAR