BEGIN:VCALENDAR
VERSION:2.0
PRODID:-//Momentum Peiss - ECPv6.15.20//NONSGML v1.0//EN
CALSCALE:GREGORIAN
METHOD:PUBLISH
X-WR-CALNAME:Momentum Peiss
X-ORIGINAL-URL:https://momentum-peiss.de
X-WR-CALDESC:Veranstaltungen für Momentum Peiss
REFRESH-INTERVAL;VALUE=DURATION:PT1H
X-Robots-Tag:noindex
X-PUBLISHED-TTL:PT1H
BEGIN:VTIMEZONE
TZID:UTC
BEGIN:STANDARD
TZOFFSETFROM:+0000
TZOFFSETTO:+0000
TZNAME:UTC
DTSTART:20240101T000000
END:STANDARD
END:VTIMEZONE
BEGIN:VEVENT
DTSTART;TZID=UTC:20251215T180000
DTEND;TZID=UTC:20251215T200000
DTSTAMP:20260421T151123
CREATED:20250929T185949Z
LAST-MODIFIED:20250929T185949Z
UID:15964-1765821600-1765828800@momentum-peiss.de
SUMMARY:Advents Meditation
DESCRIPTION:[vc_row][vc_column][vc_column_text css=““]Im Advent wollen wir gemeinsam still werden\, ein paar Texte hören und rezitieren und zum Ausklang singen im Sinne von Taizé. \nDiese Veranstaltung ist christlich ausgerichtet und zugleich für alle Glaubensrichtungen offen.[/vc_column_text][vc_column_text css=““]Beginn 18 Uhr\, \nEnde der Veranstaltung 20 Uhr \nKosten 14 €\, auch über Wellpass buchbar[/vc_column_text][vc_raw_html]JTNDYSUyMGNsYXNzJTNEJTIydmNfZ2VuZXJhbCUyMHZjX2J0bjMlMjB2Y19idG4zLXNpemUtbWQlMjB2Y19idG4zLXNoYXBlLXNxdWFyZSUyMHZjX2J0bjMtc3R5bGUtZmxhdCUyMHZjX2J0bjMtY29sb3ItZGFuZ2VyJTIyJTIwaHJlZiUzRCUyMm1haWx0byUzQWhhbGxvJTQwbW9tZW50dW0tcGVpc3MuZGUlMjIlM0VKZXR6dCUyMGFubWVsZGVuJTNDJTJGYSUzRQ==[/vc_raw_html][vc_empty_space height=“40px“][/vc_column][/vc_row][vc_row][vc_column width=“1/4″][vc_column_text] \nKursleiterin\n[/vc_column_text][vc_empty_space height=“20px“][vc_single_image image=“15445″][/vc_column][vc_column width=“3/4″][vc_column_text] \nChristine Mayr\n[/vc_column_text][vc_empty_space height=“20px“][vc_column_text css=““]Seit 40 Jahren ist Christine in den verschiedensten Körperdiszipinen unterwegs und erweitert ständig ihren reichen Erfahrungsschatz sowohl in der Eigenerfahrung als auch im Unterrichten. Nach vielen Jahren als Körpertherapeutin in der Kinder- und Jugendpsychiatrischen Tagesklinik im Biederstein in München\, arbeitet sie seit seit 2012 intensiv mit Dr. Sylvia Doleschel zusammen. Daraus ist ein inzwischen ausgefeiltes ganzheitliches Konzept in der gemeinsamen Praxis in Großhelfendorf enttstnden.  \nChristine war seit 1986 bis zu ihrem Tod 2016 Schülerin der ZEN Meisterin Sr. Ludwigis Fabian OSB. In dieser Zeit wurde sie in ZEN und Kontemplation geschult. Sie hat zahlreiche Kurse assistiert. Seit 2016 assistiert sie nun hauptsächlich die Kurse von Dr. Reiner Manstetten und besucht regelmäßig Kurse bei der schweizer ZEN Meisterin und Tuschemallehrerin Katharina Shepard. Sie ist ausgebildete Gitarristin und Sängerin.  \nFür das MOMENTUM ist sie außerdem als Trainerin für Taiji Chan\, Sounder Sleep System\, Feldenkrais und Tuschemalerei aktiv.  \nZudem unterrichtet Christine regelmäßig Kendo und Iaido im Bushido in Göggenhofen.[/vc_column_text]\n	\n		\n	[/vc_column][/vc_row]
URL:https://momentum-peiss.de/veranstaltungen/advents-meditation/
LOCATION:MOMENTUM\, Rosenheimer Landstr. 19 a\, Aying OT Peiß\, 85653\, Deutschland
ATTACH;FMTTYPE=image/jpeg:https://momentum-peiss.de/wp-content/uploads/20181214_131740-scaled.jpg
ORGANIZER;CN="Christine Mayr":MAILTO:hallo@momentum-peiss.de
END:VEVENT
END:VCALENDAR