BEGIN:VCALENDAR
VERSION:2.0
PRODID:-//Momentum Peiss - ECPv6.15.20//NONSGML v1.0//EN
CALSCALE:GREGORIAN
METHOD:PUBLISH
X-WR-CALNAME:Momentum Peiss
X-ORIGINAL-URL:https://momentum-peiss.de
X-WR-CALDESC:Veranstaltungen für Momentum Peiss
REFRESH-INTERVAL;VALUE=DURATION:PT1H
X-Robots-Tag:noindex
X-PUBLISHED-TTL:PT1H
BEGIN:VTIMEZONE
TZID:UTC
BEGIN:STANDARD
TZOFFSETFROM:+0000
TZOFFSETTO:+0000
TZNAME:UTC
DTSTART:20240101T000000
END:STANDARD
END:VTIMEZONE
BEGIN:VEVENT
DTSTART;TZID=UTC:20250302T090000
DTEND;TZID=UTC:20250302T140000
DTSTAMP:20260425T134513
CREATED:20241228T152203Z
LAST-MODIFIED:20250203T094201Z
UID:15779-1740906000-1740924000@momentum-peiss.de
SUMMARY:Taiji Intensivierungstag
DESCRIPTION:[vc_row][vc_column][vc_column_text]An diesem Sonntag wird ein Taiji Chan Vertiefungstag im Momentum in Peiß angeboten. Es sind alle Teilnehmer der Kurswochenenden und der laufenden Kurse herzlich eingeladen. Anfänger nach Absprache\, da dieser Tag für vertiefende Lerninhalte auf das bereits erlernte ausgerichtet ist. Die Pause ist gemeinsam mit „Potluck“ – jeder beringt eine Kleinigkeit mit – geplant und kann auch für weitere Fragen und vertiefenden Austausch genutzt werden. Getränke werden gestellt.[/vc_column_text][vc_column_text]Beginn 9 Uhr \nPause ca. 11 Uhr \nEnde der Veranstaltung 14 Uhr \n7-15 Teilnehmer[/vc_column_text][vc_raw_html]JTNDYSUyMGNsYXNzJTNEJTIydmNfZ2VuZXJhbCUyMHZjX2J0bjMlMjB2Y19idG4zLXNpemUtbWQlMjB2Y19idG4zLXNoYXBlLXNxdWFyZSUyMHZjX2J0bjMtc3R5bGUtZmxhdCUyMHZjX2J0bjMtY29sb3ItZGFuZ2VyJTIyJTIwaHJlZiUzRCUyMm1haWx0byUzQWhhbGxvJTQwbW9tZW50dW0tcGVpc3MuZGUlMjIlM0VKZXR6dCUyMGFubWVsZGVuJTNDJTJGYSUzRQ==[/vc_raw_html][vc_empty_space height=“40px“][/vc_column][/vc_row][vc_row][vc_column width=“1/4″][vc_column_text]Kursleiterin[/vc_column_text][vc_empty_space height=“20px“][vc_single_image image=“15445″][/vc_column][vc_column width=“3/4″][vc_column_text]Christine Mayr[/vc_column_text][vc_empty_space height=“20px“][vc_column_text]Seit 40 Jahren ist Christine in den verschiedensten Körperdiszipinen unterwegs und erweitert ständig ihren reichen Erfahrungsschatz sowohl in der Eigenerfahrung als auch im Unterrichten. Nach vielen Jahren als Körpertherapeutin in der Kinder- und Jugendpsychiatrischen Tagesklinik im Biederstein in München\, arbeitet sie seit seit 2012 intensiv mit Dr. Sylvia Doleschel zusammen. Daraus ist ein inzwischen ausgefeiltes ganzheitliches Konzept in der gemeinsamen Praxis in Großhelfendorf enttstnden.  \nZwischen 1985 und 1991 erlernte Christine direkt beim Meister P. Yang Pai Te Taiji Chan\, das neben den organischen körperlichen Aspekten auch den wichtigen Pfeiler der Meditation beinhaltet. Christine absolvierte die intensive mehrjährige Ausbildung zur Taiji Lehrerin. Im Sinne des Meisters leitet Jürgen Kuhn (Würzburg) die Taiji Schule weiter. Dort finden für alle ausgebildeten Lehrer mehrere bereichernde Treffen im Jahr statt.  \nFür das MOMENTUM ist sie außerdem als Trainerin für Feldenkrais\, Sounder Sleep System\, Tuschemalerei und Meditation aktiv.  \nZudem unterrichtet Christine regelmäßig Kendo und Iaido im Bushido in Göggenhofen. \n [/vc_column_text]\n	\n		\n	[/vc_column][/vc_row]
URL:https://momentum-peiss.de/veranstaltungen/taiji-intensivierungstag-2/
LOCATION:MOMENTUM\, Rosenheimer Landstr. 19 a\, Aying OT Peiß\, 85653\, Deutschland
ATTACH;FMTTYPE=image/jpeg:https://momentum-peiss.de/wp-content/uploads/20230622_221854-scaled.jpg
ORGANIZER;CN="Christine Mayr":MAILTO:hallo@momentum-peiss.de
END:VEVENT
BEGIN:VEVENT
DTSTART;TZID=UTC:20250330T090000
DTEND;TZID=UTC:20250330T123000
DTSTAMP:20260425T134513
CREATED:20241228T150427Z
LAST-MODIFIED:20250203T103046Z
UID:15768-1743325200-1743337800@momentum-peiss.de
SUMMARY:Tuschemalerei Workshop
DESCRIPTION:[vc_row][vc_column][vc_column_text]Christine Mayr lernt seit vielen Jahren die Tuschemalerei bei verschiedenen Lehrerinnen\, die aus unterschiedlichen Stilrichtungen des Malens oder auch aus der klassischen Kaligraphie kommen. \nIn den Bildern drückt sich sowohl die Vielfalt der Natur aus\,  als auch die Lebenskraft die aus den jeweiligen MalerInnen kommt. Freude am Spielen mit der Tusche\, freie Pinselführung\, Stille und Staunen was alles entstehen kann gehören genauso dazu wie die Körperhaltung\, fließender Atem sowie äußere und innere Stille. \nDie traditionelle Tuschemalerei will das Wesentliche des jeweiligen Motivs einfangen. Dazu gehört auch ganz wesentlich die Wahrnehmung des Malers und seine innere Stimmung im Hier und Jetzt. \nEs wird nur schwarze Tusche verwendet und die feinen Abstufungen lassen das Bild oft trotzdem „farbig“ wirken. Theorie und Geschichte genauso wie einfache Atem- und Körperübungen gehören zum Unterricht. \nAlle notwendigen Malutensilien werden gestellt. Der Workshop ist für Anfänger und Fortgeschrittene gleichermaßen geeignet.[/vc_column_text][vc_column_text]Beginn 9 Uhr \n1 Pause \nEnde der Veranstaltung 12:30 Uhr \n5-10 Teilnehmer[/vc_column_text][vc_raw_html]JTNDYSUyMGNsYXNzJTNEJTIydmNfZ2VuZXJhbCUyMHZjX2J0bjMlMjB2Y19idG4zLXNpemUtbWQlMjB2Y19idG4zLXNoYXBlLXNxdWFyZSUyMHZjX2J0bjMtc3R5bGUtZmxhdCUyMHZjX2J0bjMtY29sb3ItZGFuZ2VyJTIyJTIwaHJlZiUzRCUyMm1haWx0byUzQWhhbGxvJTQwbW9tZW50dW0tcGVpc3MuZGUlMjIlM0VKZXR6dCUyMGFubWVsZGVuJTNDJTJGYSUzRQ==[/vc_raw_html][vc_empty_space height=“40px“][/vc_column][/vc_row][vc_row][vc_column width=“1/4″][vc_column_text]Kursleiterin[/vc_column_text][vc_empty_space height=“20px“][vc_single_image image=“15445″][/vc_column][vc_column width=“3/4″][vc_column_text]Christine Mayr[/vc_column_text][vc_empty_space height=“20px“][vc_column_text]Seit 40 Jahren ist Christine in den verschiedensten Körperdiszipinen unterwegs und erweitert ständig ihren reichen Erfahrungsschatz sowohl in der Eigenerfahrung als auch im Unterrichten. Nach vielen Jahren als Körpertherapeutin in der Kinder- und Jugendpsychiatrischen Tagesklinik im Biederstein in München\, arbeitet sie seit seit 2012 intensiv mit Dr. Sylvia Doleschel zusammen. Daraus ist ein inzwischen ausgefeiltes ganzheitliches Konzept in der gemeinsamen Praxis in Großhelfendorf entstanden.  \nChristine lernt bei verschiedenen Meisterinnen der Tuschemalerei aus unterschiedlichen Schulen. Angefangen hat sie 2015 bei Monika Hermann in München. Zudem nimmt sie Unterricht bei der ZEN und Sumi-E Meisterin Katharina Shepard und bei der Künstlerin Lili Yuan in chinesischer Landschaftsmalerei. Seit 2023 ist sie in einer Ausbildungsgruppe zur Sumi-E Lehrerin bei der Kalligraphin und Sumi-E Meisterin Akemi Lukas.  \nFür das MOMENTUM ist sie außerdem als Trainerin für Feldenkrais\, Sounder Sleep System\, Taiji Chan und Meditation aktiv.  \nZudem unterrichtet Christine regelmäßig Kendo und Iaido im Bushido in Göggenhofen. Sie ist Mitbegründerin des Gitarrenquartetts „Corylus Avellana“ mit dem sie jahrelang aufgetreten ist und hat Gesangsausbildungen in München bei Frau v. Lentz\, in den USA an der NAU und in Kolbermoor bei Dagmar Gareis (funktionale Gesangs-Pädagogik nach Eugene Rabin) absolviert.  \n [/vc_column_text]\n	\n		\n	[/vc_column][/vc_row]
URL:https://momentum-peiss.de/veranstaltungen/tuschemalerei-workshop-10/
LOCATION:MOMENTUM\, Rosenheimer Landstr. 19 a\, Aying OT Peiß\, 85653\, Deutschland
ATTACH;FMTTYPE=image/jpeg:https://momentum-peiss.de/wp-content/uploads/20230917_105046.jpg
ORGANIZER;CN="Christine Mayr":MAILTO:hallo@momentum-peiss.de
END:VEVENT
END:VCALENDAR