BEGIN:VCALENDAR
VERSION:2.0
PRODID:-//Momentum Peiss - ECPv6.15.20//NONSGML v1.0//EN
CALSCALE:GREGORIAN
METHOD:PUBLISH
X-WR-CALNAME:Momentum Peiss
X-ORIGINAL-URL:https://momentum-peiss.de
X-WR-CALDESC:Veranstaltungen für Momentum Peiss
REFRESH-INTERVAL;VALUE=DURATION:PT1H
X-Robots-Tag:noindex
X-PUBLISHED-TTL:PT1H
BEGIN:VTIMEZONE
TZID:UTC
BEGIN:STANDARD
TZOFFSETFROM:+0000
TZOFFSETTO:+0000
TZNAME:UTC
DTSTART:20250101T000000
END:STANDARD
END:VTIMEZONE
BEGIN:VEVENT
DTSTART;TZID=UTC:20260329T093000
DTEND;TZID=UTC:20260329T123000
DTSTAMP:20260421T151123
CREATED:20250929T095501Z
LAST-MODIFIED:20250929T095501Z
UID:15954-1774776600-1774787400@momentum-peiss.de
SUMMARY:Tuschemalerei Workshop
DESCRIPTION:[vc_row][vc_column][vc_column_text]Christine Mayr lernt seit vielen Jahren die Tuschemalerei bei verschiedenen Lehrerinnen\, die aus unterschiedlichen Stilrichtungen des Malens oder auch aus der klassischen Kaligraphie kommen. \nIn den Bildern drückt sich sowohl die Vielfalt der Natur aus\,  als auch die Lebenskraft die aus den jeweiligen MalerInnen kommt. Freude am Spielen mit der Tusche\, freie Pinselführung\, Stille und Staunen was alles entstehen kann gehören genauso dazu wie die Körperhaltung\, fließender Atem sowie äußere und innere Stille. \nDie traditionelle Tuschemalerei will das Wesentliche des jeweiligen Motivs einfangen. Dazu gehört auch ganz wesentlich die Wahrnehmung des Malers und seine innere Stimmung im Hier und Jetzt. \nEs wird nur schwarze Tusche verwendet und die feinen Abstufungen lassen das Bild oft trotzdem „farbig“ wirken. Theorie und Geschichte genauso wie einfache Atem- und Körperübungen gehören zum Unterricht. \nAlle notwendigen Malutensilien werden gestellt. Der Workshop ist für Anfänger und Fortgeschrittene gleichermaßen geeignet.[/vc_column_text][vc_column_text css=““]Beginn 9:30 Uhr \n1 Pause \nEnde der Veranstaltung 12:30 Uhr \n5-10 Teilnehmer[/vc_column_text][vc_raw_html]JTNDYSUyMGNsYXNzJTNEJTIydmNfZ2VuZXJhbCUyMHZjX2J0bjMlMjB2Y19idG4zLXNpemUtbWQlMjB2Y19idG4zLXNoYXBlLXNxdWFyZSUyMHZjX2J0bjMtc3R5bGUtZmxhdCUyMHZjX2J0bjMtY29sb3ItZGFuZ2VyJTIyJTIwaHJlZiUzRCUyMm1haWx0byUzQWhhbGxvJTQwbW9tZW50dW0tcGVpc3MuZGUlMjIlM0VKZXR6dCUyMGFubWVsZGVuJTNDJTJGYSUzRQ==[/vc_raw_html][vc_empty_space height=“40px“][/vc_column][/vc_row][vc_row][vc_column width=“1/4″][vc_column_text]Kursleiterin[/vc_column_text][vc_empty_space height=“20px“][vc_single_image image=“15445″][/vc_column][vc_column width=“3/4″][vc_column_text]Christine Mayr[/vc_column_text][vc_empty_space height=“20px“][vc_column_text]Seit 40 Jahren ist Christine in den verschiedensten Körperdiszipinen unterwegs und erweitert ständig ihren reichen Erfahrungsschatz sowohl in der Eigenerfahrung als auch im Unterrichten. Nach vielen Jahren als Körpertherapeutin in der Kinder- und Jugendpsychiatrischen Tagesklinik im Biederstein in München\, arbeitet sie seit seit 2012 intensiv mit Dr. Sylvia Doleschel zusammen. Daraus ist ein inzwischen ausgefeiltes ganzheitliches Konzept in der gemeinsamen Praxis in Großhelfendorf entstanden.  \nChristine lernt bei verschiedenen Meisterinnen der Tuschemalerei aus unterschiedlichen Schulen. Angefangen hat sie 2015 bei Monika Hermann in München. Zudem nimmt sie Unterricht bei der ZEN und Sumi-E Meisterin Katharina Shepard und bei der Künstlerin Lili Yuan in chinesischer Landschaftsmalerei. Seit 2023 ist sie in einer Ausbildungsgruppe zur Sumi-E Lehrerin bei der Kalligraphin und Sumi-E Meisterin Akemi Lukas.  \nFür das MOMENTUM ist sie außerdem als Trainerin für Feldenkrais\, Sounder Sleep System\, Taiji Chan und Meditation aktiv.  \nZudem unterrichtet Christine regelmäßig Kendo und Iaido im Bushido in Göggenhofen. Sie ist Mitbegründerin des Gitarrenquartetts „Corylus Avellana“ mit dem sie jahrelang aufgetreten ist und hat Gesangsausbildungen in München bei Frau v. Lentz\, in den USA an der NAU und in Kolbermoor bei Dagmar Gareis (funktionale Gesangs-Pädagogik nach Eugene Rabin) absolviert.  \n [/vc_column_text]\n	\n		\n	[/vc_column][/vc_row]
URL:https://momentum-peiss.de/veranstaltungen/tuschemalerei-workshop-17/
LOCATION:MOMENTUM\, Rosenheimer Landstr. 19 a\, Aying OT Peiß\, 85653\, Deutschland
ATTACH;FMTTYPE=image/jpeg:https://momentum-peiss.de/wp-content/uploads/20230820_121919.jpg
ORGANIZER;CN="Christine Mayr":MAILTO:hallo@momentum-peiss.de
END:VEVENT
BEGIN:VEVENT
DTSTART;TZID=UTC:20260330T180000
DTEND;TZID=UTC:20260330T200000
DTSTAMP:20260421T151123
CREATED:20250929T092507Z
LAST-MODIFIED:20250929T093328Z
UID:15936-1774893600-1774900800@momentum-peiss.de
SUMMARY:Meditation zum Auftakt in die Karwoche
DESCRIPTION:[vc_row][vc_column][vc_column_text css=““]Zum Auftakt in die Karwoche wollen wir gemeinsam still werden\, ein paar Texte hören und rezitieren und zum Ausklang singen im Sinne von Taizé. \nDiese Veranstaltung ist christlich ausgerichtet und zugleich für alle Glaubensrichtungen offen.[/vc_column_text][vc_column_text css=““]Beginn 18 Uhr\, \nEnde der Veranstaltung 20 Uhr \nKosten 14 €\, auch über Wellpass buchbar[/vc_column_text][vc_raw_html]JTNDYSUyMGNsYXNzJTNEJTIydmNfZ2VuZXJhbCUyMHZjX2J0bjMlMjB2Y19idG4zLXNpemUtbWQlMjB2Y19idG4zLXNoYXBlLXNxdWFyZSUyMHZjX2J0bjMtc3R5bGUtZmxhdCUyMHZjX2J0bjMtY29sb3ItZGFuZ2VyJTIyJTIwaHJlZiUzRCUyMm1haWx0byUzQWhhbGxvJTQwbW9tZW50dW0tcGVpc3MuZGUlMjIlM0VKZXR6dCUyMGFubWVsZGVuJTNDJTJGYSUzRQ==[/vc_raw_html][vc_empty_space height=“40px“][/vc_column][/vc_row][vc_row][vc_column width=“1/4″][vc_column_text] \nKursleiterin\n[/vc_column_text][vc_empty_space height=“20px“][vc_single_image image=“15445″][/vc_column][vc_column width=“3/4″][vc_column_text] \nChristine Mayr\n[/vc_column_text][vc_empty_space height=“20px“][vc_column_text css=““]Seit 40 Jahren ist Christine in den verschiedensten Körperdiszipinen unterwegs und erweitert ständig ihren reichen Erfahrungsschatz sowohl in der Eigenerfahrung als auch im Unterrichten. Nach vielen Jahren als Körpertherapeutin in der Kinder- und Jugendpsychiatrischen Tagesklinik im Biederstein in München\, arbeitet sie seit seit 2012 intensiv mit Dr. Sylvia Doleschel zusammen. Daraus ist ein inzwischen ausgefeiltes ganzheitliches Konzept in der gemeinsamen Praxis in Großhelfendorf enttstnden.  \nChristine war seit 1986 bis zu ihrem Tod 2016 Schülerin der ZEN Meisterin Sr. Ludwigis Fabian OSB. In dieser Zeit wurde sie in ZEN und Kontemplation geschult. Sie hat zahlreiche Kurse assistiert. Seit 2016 assistiert sie nun hauptsächlich die Kurse von Dr. Reiner Manstetten und besucht regelmäßig Kurse bei der schweizer ZEN Meisterin und Tuschemallehrerin Katharina Shepard. Sie ist ausgebildete Gitarristin und Sängerin.  \nFür das MOMENTUM ist sie außerdem als Trainerin für Taiji Chan\, Sounder Sleep System\, Feldenkrais und Tuschemalerei aktiv.  \nZudem unterrichtet Christine regelmäßig Kendo und Iaido im Bushido in Göggenhofen.[/vc_column_text]\n	\n		\n	[/vc_column][/vc_row]
URL:https://momentum-peiss.de/veranstaltungen/einfuehrung-aufbau-gegenstandslose-meditation-entwurf-2/
LOCATION:MOMENTUM\, Rosenheimer Landstr. 19 a\, Aying OT Peiß\, 85653\, Deutschland
ATTACH;FMTTYPE=image/jpeg:https://momentum-peiss.de/wp-content/uploads/20181214_131740-scaled.jpg
ORGANIZER;CN="Christine Mayr":MAILTO:hallo@momentum-peiss.de
END:VEVENT
END:VCALENDAR